BEGIN:VCALENDAR
VERSION:2.0
PRODID:-//Claudius Akademie - ECPv6.15.20//NONSGML v1.0//EN
CALSCALE:GREGORIAN
METHOD:PUBLISH
X-ORIGINAL-URL:https://claudius-akademie.de
X-WR-CALDESC:Veranstaltungen für Claudius Akademie
REFRESH-INTERVAL;VALUE=DURATION:PT1H
X-Robots-Tag:noindex
X-PUBLISHED-TTL:PT1H
BEGIN:VTIMEZONE
TZID:UTC
BEGIN:STANDARD
TZOFFSETFROM:+0000
TZOFFSETTO:+0000
TZNAME:UTC
DTSTART:20230101T000000
END:STANDARD
END:VTIMEZONE
BEGIN:VEVENT
DTSTART;TZID=UTC:20251103T160000
DTEND;TZID=UTC:20251103T173000
DTSTAMP:20260423T083512
CREATED:20250906T153001Z
LAST-MODIFIED:20250906T153001Z
UID:10000228-1762185600-1762191000@claudius-akademie.de
SUMMARY:CAD mit SolidEdge - dieser Kurs findet statt am 3.11.25 / 10.11.25 / 17.11.25 (ab Klasse 5)
DESCRIPTION:Interessierst du dich für digitale Medien? Wolltest du schon immer mal wissen wie ein Auto\, Flugzeug\, oder eine Maschine am PC entsteht\, bevor sie gebaut wird? \nDann bist du bei unserem Kurs „CAD mit Solid Edge“ genau richtig. \nSolid Edge ist eine professionelle 2D/3D-CAD-Software\, also ein Programm zum Zeichnen und Konstruieren am Computer. Damit können Unternehmen ihre Produkte virtuell erstellen und in der Produktion viel Zeit und Geld sparen. \nJährlich werden mehr als 1000 Anwender für Solid Edge bei der ISAP GmbH in Herne ausgebildet. \nJetzt hast du die Möglichkeit an einem echten CAD-Arbeitsplatz zu sitzen und diese spannende Software kennenzulernen. Wir werden an 3 Nachmittagen gemeinsam mit Dir ein „Formel 1“-Auto am PC erstellen und du wirst die Grundlagen von „Solid Edge“ kennenlernen. \nVon der Erstellung von Einzelteilen über Baugruppen bis hin zu Zeichnungen\, hast du die Gelegenheit in die Welt der digitalen Konstruktion einzutauchen. \nWir freuen uns auf 3 tollen Nachmittage mit Dir.
URL:https://claudius-akademie.de/veranstaltungen/cad-mit-solidedge-dieser-kurs-findet-statt-am-3-11-25-10-11-25-17-11-25-ab-klasse-5/
LOCATION:ISAP GmbH in Herne\, Robert-Bosch-Straße 1;\, Herne\, 44629
CATEGORIES:Claudius Akademie,Juniorakademie
ATTACH;FMTTYPE=image/jpeg:https://claudius-akademie.de/wp-content/uploads/2025/09/CAD_ISAP.jpg
END:VEVENT
BEGIN:VEVENT
DTSTART;TZID=UTC:20250623T160000
DTEND;TZID=UTC:20250623T173000
DTSTAMP:20260423T083512
CREATED:20250401T091814Z
LAST-MODIFIED:20250401T092311Z
UID:10000189-1750694400-1750699800@claudius-akademie.de
SUMMARY:CAD mit Solid Edge (ab Klasse 5 - dieser Kurs beinhaltet insgesamt 3 Termine)
DESCRIPTION:Solid Edge ist eine professionelle 2D/3D-CAD-Software\, also ein Programm zum Zeichnen und Konstruieren am Computer. Damit können Unternehmen ihre Produkte virtuell erstellen und in der Produktion viel Zeit und Geld sparen.\nJährlich werden mehr als 1000 Anwender für Solid Edge bei der ISAP AG in Herne ausgebildet. Jetzt habt ihr die Möglichkeit an einem echten CAD-Arbeitsplatz zu sitzen und diese spannende Software kennenzulernen. Ihr werdet einzelne Teile und sogar ganze Baugruppen virtuell erstellen und gestalten.\nweitere Termine sind am:  30.06.25 – 07.07.25 –  zur gleichen Zeit.\nTreffpunkt ist der Empfang der ISAP AG
URL:https://claudius-akademie.de/veranstaltungen/cad-mit-solid-edge-ab-klasse-5-dieser-kurs-beinhaltet-insgesamt-3-termine/
LOCATION:ISAP GmbH in Herne\, Robert-Bosch-Straße 1;\, Herne\, 44629
CATEGORIES:Claudius Akademie,Juniorakademie
ATTACH;FMTTYPE=image/jpeg:https://claudius-akademie.de/wp-content/uploads/2024/09/ferrari-4717432_1280.jpg
END:VEVENT
BEGIN:VEVENT
DTSTART;TZID=UTC:20241016T100000
DTEND;TZID=UTC:20241016T150000
DTSTAMP:20260423T083512
CREATED:20240923T122736Z
LAST-MODIFIED:20240924T064408Z
UID:10000140-1729072800-1729090800@claudius-akademie.de
SUMMARY:Digga\, ist das Digital! (ab Klasse 5)
DESCRIPTION:Interessierst du dich für digitale Medien? Wolltest du schon immer mal wissen wie ein Auto\, Flugzeug\, oder eine Maschine am PC entsteht\, bevor die Fertigung beginnt?Dann bist du bei unserem „Digga\, ist das Digital!“-Day genau richtig. Wir möchten Dir an diesem Tag zeigen\, wie du mit einem modernen CAD-System am PC konstruierst und einen „Digitalen Zwilling“ entstehen lässt.Wir laden Dich ein\, mit uns in die Welt der „Digitalen Konstruktion“ einzutauchen. Wir werden gemeinsam Bauteile mit einem 3D-Scanner einscannen\, im CAD-System etwas konstruieren um es später mit dem 3D-Drucker auszudrucken.Im Anschluss hast du Zeit in die Welt von Virtual Reality einzutauchen und Dir anzuschauen was im technischen Umfeld hiermit möglich ist.Am Ende der Veranstaltung hast du die Möglichkeit dich über Ausbildungs- oder Praktikumsplätze bei uns zu informieren und mit aktuellen Auszubildenen bei der ISAP GmbH zu sprechen.Während des ganzen Tages ist mit Getränken und Essen für deine Verpflegung gesorgt. Bringe gerne ein Elternteil und ganz viel gute Laune zu dieser Veranstaltung mit.\nWir freuen uns über deine Anmeldung.
URL:https://claudius-akademie.de/veranstaltungen/digga-ist-das-digital-ab-klasse-5/
LOCATION:ISAP GmbH in Herne\, Robert-Bosch-Straße 1;\, Herne\, 44629
CATEGORIES:Claudius Akademie
ATTACH;FMTTYPE=image/jpeg:https://claudius-akademie.de/wp-content/uploads/2024/09/artificial-intelligence-3382507_1280.jpg
END:VEVENT
END:VCALENDAR